BEGIN:VCALENDAR
VERSION:2.0
PRODID:-//eventon.com NONSGML v1.0//EN
BEGIN:VEVENT
UID:69e4cbca71d22
DTSTAMP:20260419T180418
DTSTART:20200513T093000Z
DTEND:20200518T123000Z
LOCATION:
SUMMARY:Robot Structure Analysis 2020 : Basic + Intermediate
DESCRIPTION: Days : 5 Days / 20hrs Duration : 4 Hrs Location : USAM Online Time : 03:00pm - 06:00pm To enroll yourself click the registration link here https://forms.gle/m3gzt7r1n7T9WiWH7
END:VEVENT
END:VCALENDAR